BEGIN:VCALENDAR
VERSION:2.0
PRODID:-//wp-events-plugin.com//7.2.3.1//EN
TZID:America/New_York
X-WR-TIMEZONE:America/New_York
BEGIN:VEVENT
UID:693@fashonation.com
DTSTART;TZID=America/New_York:20241116T170000
DTEND;TZID=America/New_York:20241116T220000
DTSTAMP:20240921T062310Z
URL:https://fashonation.com/events/african-fashion-show-pdx-2024/
SUMMARY:African Fashion Show PDX 2024
DESCRIPTION:African Fashion Show PDX 2024\n\n\nAfrican Fashion Show PDX cel
 ebrates the spirit of Africa in Portland through an immersive cultural exp
 erience.\n\nThis is an annual fundraiser for the Firmina Foundation Read m
 ore in\n\n
ATTACH;FMTTYPE=image/jpeg:https://media.fashonation.com/wp-content/uploads
 /2024/09/21022251/thumb66c961ddb73c3.jpg
CATEGORIES:Fashion Show,Fashion Week
LOCATION:https://maps.app.goo.gl/EBJb77Ucq14Eh6gT6
END:VEVENT
BEGIN:VTIMEZONE
TZID:America/New_York
X-LIC-LOCATION:America/New_York
BEGIN:STANDARD
DTSTART:20241103T010000
TZOFFSETFROM:-0400
TZOFFSETTO:-0500
TZNAME:EST
END:STANDARD
END:VTIMEZONE
END:VCALENDAR