BEGIN:VCALENDAR
VERSION:2.0
PRODID:-//wp-events-plugin.com//7.2.3.1//EN
TZID:America/New_York
X-WR-TIMEZONE:America/New_York
BEGIN:VEVENT
UID:388@fashonation.com
DTSTART;TZID=Europe/Brussels:20231223T170000
DTEND;TZID=Europe/Brussels:20231223T220000
DTSTAMP:20230911T143654Z
URL:https://fashonation.com/events/fashion-show-eap/
SUMMARY:Fashion Show EAP
DESCRIPTION:Presenting our new collectionRead more on Eventbrite
ATTACH;FMTTYPE=image/jpeg:https://media.fashonation.com/wp-content/uploads
 /2023/09/11025107/https___cdn.evbuc_.com_images_569272129_1482563402193_1_
 original.jpg
CATEGORIES:Fashion Show,Fashion Week
LOCATION:https://goo.gl/maps/xe3mk7jxTvseb27B7
END:VEVENT
BEGIN:VTIMEZONE
TZID:Europe/Brussels
X-LIC-LOCATION:Europe/Brussels
BEGIN:STANDARD
DTSTART:20231029T020000
TZOFFSETFROM:+0200
TZOFFSETTO:+0100
TZNAME:CET
END:STANDARD
END:VTIMEZONE
END:VCALENDAR