BEGIN:VCALENDAR
VERSION:2.0
PRODID:-//wp-events-plugin.com//7.2.3.1//EN
TZID:America/New_York
X-WR-TIMEZONE:America/New_York
BEGIN:VEVENT
UID:613@fashonation.com
DTSTART;TZID=Australia/Melbourne:20240612T170000
DTEND;TZID=Australia/Melbourne:20240612T170000
DTSTAMP:20240603T070641Z
URL:https://fashonation.com/events/global-sourcing-expo/
SUMMARY:Global Sourcing Expo
DESCRIPTION:The Global Sourcing Expo (formerly the International Sourcing E
 xpo) is a must-attend event for industry professionals associated with buy
 ing and global sourcing of apparel\, textiles and homeware products.  Rea
 d more on\n\n&nbsp\;
ATTACH;FMTTYPE=image/jpeg:https://media.fashonation.com/wp-content/uploads
 /2024/06/03030515/global-sourcing-expo-sydney-2024.webp
CATEGORIES:Fashion Show,Fashion Week,Film Festival,Market Event
LOCATION:https://maps.app.goo.gl/kuW1rLNdxA9w5J787
END:VEVENT
BEGIN:VTIMEZONE
TZID:Australia/Melbourne
X-LIC-LOCATION:Australia/Melbourne
BEGIN:STANDARD
DTSTART:20240407T020000
TZOFFSETFROM:+1100
TZOFFSETTO:+1000
TZNAME:AEST
END:STANDARD
END:VTIMEZONE
END:VCALENDAR