BEGIN:VCALENDAR
VERSION:2.0
PRODID:-//wp-events-plugin.com//7.2.3.1//EN
TZID:America/New_York
X-WR-TIMEZONE:America/New_York
BEGIN:VEVENT
UID:159@fashonation.com
DTSTART;TZID=Europe/London:20230719T160000
DTEND;TZID=Europe/London:20230719T200000
DTSTAMP:20230712T012328Z
URL:https://fashonation.com/events/mayfair-campus-wednesday-19th-postgradu
 ate-open-day-in-person/
SUMMARY:Mayfair Campus: Wednesday 19th - Postgraduate Open Day (In-person)
DESCRIPTION:Join us at the JCA for our in person open evening. Discover wha
 t makes us unique\, and find out more about our courses and exciting offer
 ing.Read more on Eventbrite
ATTACH;FMTTYPE=image/jpeg:https://media.fashonation.com/wp-content/uploads
 /2023/07/11212144/https___cdn.evbuc_.com_images_484701699_450591162650_1_o
 riginal.jpg
CATEGORIES:Fashion Show,Fashion Week
LOCATION:https://goo.gl/maps/q1uQRzBuWYKNiExg6
END:VEVENT
BEGIN:VTIMEZONE
TZID:Europe/London
X-LIC-LOCATION:Europe/London
BEGIN:DAYLIGHT
DTSTART:20230326T020000
TZOFFSETFROM:+0000
TZOFFSETTO:+0100
TZNAME:BST
END:DAYLIGHT
END:VTIMEZONE
END:VCALENDAR