BEGIN:VCALENDAR
VERSION:2.0
PRODID:-//wp-events-plugin.com//7.2.3.1//EN
TZID:America/New_York
X-WR-TIMEZONE:America/New_York
BEGIN:VEVENT
UID:676@fashonation.com
DTSTART;TZID=America/New_York:20240909T170000
DTEND;TZID=America/New_York:20240910T230000
DTSTAMP:20240902T140537Z
URL:https://fashonation.com/events/nyfw-infusion-experience-presented-by-d
 aniels-leather-pink-planes/
SUMMARY:NYFW Infusion Experience Presented By Daniels Leather & Pink Planes
DESCRIPTION:NYFW Infusion Experience Presented By Daniels Leather &amp\; Pi
 nk Planes\n\n\nNew York Fashion Week Infusion Experience\n\nPRESENTED BY D
 ANIELS LEATHER PINK PLANES &amp\; SNC PRODUCTIONS\n\nDaniel's Leather retu
 rns this September to NYC's 2024 Fashion Week with an exclusive Infusion E
 xperience. A taste of luxury urban apparel infused with the future of New 
 York culture. Read more in....\n\n
ATTACH;FMTTYPE=image/jpeg:https://media.fashonation.com/wp-content/uploads
 /2024/09/02100502/thumb669d3cf8d0ff0.webp
LOCATION:https://maps.app.goo.gl/PzMbyQQ559Hi5B6a7
END:VEVENT
BEGIN:VTIMEZONE
TZID:America/New_York
X-LIC-LOCATION:America/New_York
BEGIN:DAYLIGHT
DTSTART:20240310T030000
TZOFFSETFROM:-0500
TZOFFSETTO:-0400
TZNAME:EDT
END:DAYLIGHT
END:VTIMEZONE
END:VCALENDAR