BEGIN:VCALENDAR
VERSION:2.0
PRODID:-//wp-events-plugin.com//7.2.3.1//EN
TZID:America/New_York
X-WR-TIMEZONE:America/New_York
BEGIN:VEVENT
UID:762@fashonation.com
DTSTART;TZID=Asia/Tokyo:20260316T000000
DTEND;TZID=Asia/Tokyo:20260321T000000
DTSTAMP:20260218T020935Z
URL:https://fashonation.com/events/rakuten-tokyo-fashion-week-2026/
SUMMARY:Rakuten Tokyo Fashion Week 2026
DESCRIPTION:Major Asian fashion week highlighting Japanese and global talen
 t with strong digital presentations. READ MORE...\n\n
ATTACH;FMTTYPE=image/jpeg:https://fashonation.com/wp-content/uploads/2026/
 02/kv_pc.jpg
CATEGORIES:Fashion Show,Fashion Week,Runway
END:VEVENT
BEGIN:VTIMEZONE
TZID:Asia/Tokyo
X-LIC-LOCATION:Asia/Tokyo
BEGIN:STANDARD
DTSTART:20250316T000000
TZOFFSETFROM:+0900
TZOFFSETTO:+0900
TZNAME:JST
END:STANDARD
END:VTIMEZONE
END:VCALENDAR