BEGIN:VCALENDAR
VERSION:2.0
PRODID:-//wp-events-plugin.com//7.2.3.1//EN
TZID:America/New_York
X-WR-TIMEZONE:America/New_York
BEGIN:VEVENT
UID:652@fashonation.com
DTSTART;TZID=America/New_York;VALUE=DATE:20240907
DTEND;TZID=America/New_York;VALUE=DATE:20240908
DTSTAMP:20240719T091423Z
URL:https://fashonation.com/events/runway-show-new-york-fashion-week/
SUMMARY:Runway Show - New York Fashion Week
DESCRIPTION:Get ready for the hottest fashion event in town! Fashion Republ
 ic presents NYFW Show where you can see the newest trends up close Read mo
 re on.......
ATTACH;FMTTYPE=image/jpeg:https://media.fashonation.com/wp-content/uploads
 /2024/07/19051301/https___cdnevbuc_com_images_739871669_127362632037_1_ori
 ginal.jpg
CATEGORIES:Fashion Show,Fashion Week
LOCATION:https://maps.app.goo.gl/1k8us9Qqa9o5BwnL8
END:VEVENT
BEGIN:VTIMEZONE
TZID:America/New_York
X-LIC-LOCATION:America/New_York
BEGIN:DAYLIGHT
DTSTART:20240310T030000
TZOFFSETFROM:-0500
TZOFFSETTO:-0400
TZNAME:EDT
END:DAYLIGHT
END:VTIMEZONE
END:VCALENDAR