BEGIN:VCALENDAR
VERSION:2.0
PRODID:-//wp-events-plugin.com//7.2.3.1//EN
TZID:America/New_York
X-WR-TIMEZONE:America/New_York
BEGIN:VEVENT
UID:780@fashonation.com
DTSTART;TZID=America/New_York:20260429T000000
DTEND;TZID=America/New_York:20260430T000000
DTSTAMP:20260302T060258Z
URL:https://fashonation.com/events/textiles-recycling-expo-usa/
SUMMARY:Textiles Recycling Expo USA
DESCRIPTION:Dedicated showcase for textile recycling innovations\, addressi
 ng sustainability in fashion and apparel for global industry leaders. READ
  MORE...\n\n
ATTACH;FMTTYPE=image/jpeg:https://fashonation.com/wp-content/uploads/2026/
 03/Untitled-2.jpg
CATEGORIES:exhibitions,Market Event,Runway
END:VEVENT
BEGIN:VTIMEZONE
TZID:America/New_York
X-LIC-LOCATION:America/New_York
BEGIN:DAYLIGHT
DTSTART:20260308T030000
TZOFFSETFROM:-0500
TZOFFSETTO:-0400
TZNAME:EDT
END:DAYLIGHT
END:VTIMEZONE
END:VCALENDAR